BEGIN:VCALENDAR
VERSION:2.0
PRODID:-//casaworks.org//NONSGML kigkonsult.se iCalcreator 2.30.10//
CALSCALE:GREGORIAN
METHOD:PUBLISH
UID:b1b7e4c4-0345-4317-b273-c4b742a16e6a
X-WR-CALDESC:
X-WR-RELCALID:e650bea32a2ea08fea2a6d77e73ae9c8
X-WR-TIMEZONE:America/Chicago
BEGIN:VTIMEZONE
TZID:America/Chicago
BEGIN:STANDARD
TZNAME:CST
DTSTART:20251102T020000
TZOFFSETFROM:-0500
TZOFFSETTO:-0600
RDATE:20261101T020000
END:STANDARD
BEGIN:DAYLIGHT
TZNAME:CDT
DTSTART:20260308T020000
TZOFFSETFROM:-0600
TZOFFSETTO:-0500
RDATE:20270314T020000
END:DAYLIGHT
END:VTIMEZONE
BEGIN:VEVENT
UID:a6990a6f-e4a3-4a08-8f01-7b2b66ddd3a0
DTSTAMP:20260424T162335Z
DESCRIPTION:
DTSTART;TZID=America/Chicago:20260501T180000
DTEND;TZID=America/Chicago:20260501T203000
LOCATION:208 W. Lauderdale St\, Tullahoma\, TN 37388 US
SUMMARY:New Era Father Daughter Dance
END:VEVENT
END:VCALENDAR
